BEGIN:VCALENDAR
VERSION:2.0
PRODID:-//Boulder County Republicans - ECPv6.15.15//NONSGML v1.0//EN
CALSCALE:GREGORIAN
METHOD:PUBLISH
X-ORIGINAL-URL:https://bocogop.org
X-WR-CALDESC:Events for Boulder County Republicans
REFRESH-INTERVAL;VALUE=DURATION:PT1H
X-Robots-Tag:noindex
X-PUBLISHED-TTL:PT1H
BEGIN:VTIMEZONE
TZID:America/Denver
BEGIN:DAYLIGHT
TZOFFSETFROM:-0700
TZOFFSETTO:-0600
TZNAME:MDT
DTSTART:20230312T090000
END:DAYLIGHT
BEGIN:STANDARD
TZOFFSETFROM:-0600
TZOFFSETTO:-0700
TZNAME:MST
DTSTART:20231105T080000
END:STANDARD
BEGIN:DAYLIGHT
TZOFFSETFROM:-0700
TZOFFSETTO:-0600
TZNAME:MDT
DTSTART:20240310T090000
END:DAYLIGHT
BEGIN:STANDARD
TZOFFSETFROM:-0600
TZOFFSETTO:-0700
TZNAME:MST
DTSTART:20241103T080000
END:STANDARD
BEGIN:DAYLIGHT
TZOFFSETFROM:-0700
TZOFFSETTO:-0600
TZNAME:MDT
DTSTART:20250309T090000
END:DAYLIGHT
BEGIN:STANDARD
TZOFFSETFROM:-0600
TZOFFSETTO:-0700
TZNAME:MST
DTSTART:20251102T080000
END:STANDARD
END:VTIMEZONE
BEGIN:VEVENT
DTSTART;VALUE=DATE:20240902
DTEND;VALUE=DATE:20240903
DTSTAMP:20260421T112107
CREATED:20240814T031057Z
LAST-MODIFIED:20240814T031057Z
UID:3249-1725235200-1725321599@bocogop.org
SUMMARY:Walk with BCR in the Louisville Labor Day Parade
DESCRIPTION:Join us for the Louisville Labor Day Parade on September 2\, 2024! The Boulder County Fair parade was tons of fun!! \nMore info coming soon.
URL:https://bocogop.org/event/walk-with-bcr-in-the-louisville-labor-day-parade/
LOCATION:TBD
CATEGORIES:Festival or Community Event
ATTACH;FMTTYPE=image/png:https://bocogop.org/wp-content/uploads/2024/06/boco-parade.png
END:VEVENT
BEGIN:VEVENT
DTSTART;TZID=America/Denver:20240908T150000
DTEND;TZID=America/Denver:20240908T170000
DTSTAMP:20260421T112107
CREATED:20240814T005340Z
LAST-MODIFIED:20240814T014630Z
UID:3246-1725807600-1725814800@bocogop.org
SUMMARY:BCR Open House and Candidate Meet and Greet
DESCRIPTION:PLEASE COME MEET CANDIDATES AND GET TO KNOW FELLOW REPUBLICANS IN BOULDER COUNTY! Bring your fellow conservative minded friends and neighbors! We will have a prize for the PCP/DC who brings the most people. \n***The organizers are asking for help with food/drinks for this event from our PCP’s and DC’s. Please sign up to bring something HERE.
URL:https://bocogop.org/event/bcr-open-house-and-candidate-meet-and-greet/
LOCATION:BCR Headquarters\, 425 S Bowen Street #1\, Longmont\, CO\, 80501\, United States
CATEGORIES:Educational Event,Election Event
ATTACH;FMTTYPE=image/png:https://bocogop.org/wp-content/uploads/2023/10/6d6ccf_e90ae45c80bb4574a84338461c6d6318mv2.png
END:VEVENT
BEGIN:VEVENT
DTSTART;TZID=America/Denver:20240914T080000
DTEND;TZID=America/Denver:20240914T170000
DTSTAMP:20260421T112107
CREATED:20240814T003033Z
LAST-MODIFIED:20240818T165302Z
UID:3238-1726300800-1726333200@bocogop.org
SUMMARY:Longmont Air Show
DESCRIPTION:We need all hands on deck for this momentous event! Thousands of people are expected to attend! \nLongmont Airshow\nSeptember 14 – All Day\nLongmont Airport\, Longmont \nBCR Will have a booth (Candidates encouraged to attend) \nSign up to volunteer at the airshow HERE \nMore info: https://www.longmontairshow.com/
URL:https://bocogop.org/event/longmont-air-show/
LOCATION:Longmont Airport\, 229 Airport Rd\, Longmont\, CO\, 80503\, United States
CATEGORIES:Festival or Community Event
ATTACH;FMTTYPE=image/webp:https://bocogop.org/wp-content/uploads/2024/08/DCC-L-Aviation_CG18369-1.webp
END:VEVENT
BEGIN:VEVENT
DTSTART;TZID=America/Denver:20240922T140000
DTEND;TZID=America/Denver:20240922T163000
DTSTAMP:20260421T112107
CREATED:20240729T200027Z
LAST-MODIFIED:20240729T200401Z
UID:2997-1727013600-1727022600@bocogop.org
SUMMARY:LRW Sunday Matinee: Reagan
DESCRIPTION:A biopic starring Dennis Quaid and set against the backdrop of the Cold War\, the film follows Reagan’s journey from his childhood in Dixon\, Illinois\, to Hollywood and then on to the White House. It begins with an aging Petrovich (Jon Voight)\, now 90 years old\, being visited by an up-and-coming Russian leader who wants to know how the Soviet Union was lost. \nPlease spread the word about this film to everyone\, and let’s use our group as a community outreach tool to reach the ever-growing unaffiliated voter base. \nDate: Sunday\, September 22nd\, 2024 \n\nDoors open at 2:00 p.m\nSuggested donation: A $5.00 admittance and nominal donation(s) are requested for pizza\, popcorn\, sweets\, and beverages\nRSVP to Sandra Holloway by 9/21: sandraholloway2010@gmail.com or call/text 303-241-9709
URL:https://bocogop.org/event/lrw-sunday-matinee-reagan/
LOCATION:BCR Headquarters\, 425 S Bowen Street #1\, Longmont\, CO\, 80501\, United States
CATEGORIES:Social Event
ATTACH;FMTTYPE=image/jpeg:https://bocogop.org/wp-content/uploads/2024/07/MV5BMjY5OGViY2UtY2NjNi00YTFjLTkzMjktNzljODlkNDhlOTU2XkEyXkFqcGdeQXVyMzI5MzEyNTI@._V1_.jpg
END:VEVENT
BEGIN:VEVENT
DTSTART;TZID=America/Denver:20240926T190000
DTEND;TZID=America/Denver:20240926T210000
DTSTAMP:20260421T112107
CREATED:20240814T000912Z
LAST-MODIFIED:20240814T000912Z
UID:3228-1727377200-1727384400@bocogop.org
SUMMARY:Boulder County Republicans Executive Committee Meeting
DESCRIPTION:The Boulder County Republicans Executive Committee Meeting will be held on Sept 26\, 2024 at the BCR headquarters.
URL:https://bocogop.org/event/boulder-county-republicans-executive-committee-meeting-4/
LOCATION:BCR Headquarters\, 425 S Bowen Street #1\, Longmont\, CO\, 80501\, United States
CATEGORIES:Party Organizational Event
ATTACH;FMTTYPE=image/png:https://bocogop.org/wp-content/uploads/2023/11/cropped-LOGO.png
END:VEVENT
END:VCALENDAR