BEGIN:VCALENDAR
VERSION:2.0
PRODID:-//Boulder County Republicans - ECPv6.15.15//NONSGML v1.0//EN
CALSCALE:GREGORIAN
METHOD:PUBLISH
X-WR-CALNAME:Boulder County Republicans
X-ORIGINAL-URL:https://bocogop.org
X-WR-CALDESC:Events for Boulder County Republicans
REFRESH-INTERVAL;VALUE=DURATION:PT1H
X-Robots-Tag:noindex
X-PUBLISHED-TTL:PT1H
BEGIN:VTIMEZONE
TZID:America/Denver
BEGIN:DAYLIGHT
TZOFFSETFROM:-0700
TZOFFSETTO:-0600
TZNAME:MDT
DTSTART:20220313T090000
END:DAYLIGHT
BEGIN:STANDARD
TZOFFSETFROM:-0600
TZOFFSETTO:-0700
TZNAME:MST
DTSTART:20221106T080000
END:STANDARD
BEGIN:DAYLIGHT
TZOFFSETFROM:-0700
TZOFFSETTO:-0600
TZNAME:MDT
DTSTART:20230312T090000
END:DAYLIGHT
BEGIN:STANDARD
TZOFFSETFROM:-0600
TZOFFSETTO:-0700
TZNAME:MST
DTSTART:20231105T080000
END:STANDARD
BEGIN:DAYLIGHT
TZOFFSETFROM:-0700
TZOFFSETTO:-0600
TZNAME:MDT
DTSTART:20240310T090000
END:DAYLIGHT
BEGIN:STANDARD
TZOFFSETFROM:-0600
TZOFFSETTO:-0700
TZNAME:MST
DTSTART:20241103T080000
END:STANDARD
BEGIN:DAYLIGHT
TZOFFSETFROM:-0700
TZOFFSETTO:-0600
TZNAME:MDT
DTSTART:20250309T090000
END:DAYLIGHT
BEGIN:STANDARD
TZOFFSETFROM:-0600
TZOFFSETTO:-0700
TZNAME:MST
DTSTART:20251102T080000
END:STANDARD
END:VTIMEZONE
BEGIN:VEVENT
DTSTART;TZID=America/Denver:20240309T100000
DTEND;TZID=America/Denver:20240309T120000
DTSTAMP:20260423T054016
CREATED:20240216T181829Z
LAST-MODIFIED:20240216T181829Z
UID:2725-1709978400-1709985600@bocogop.org
SUMMARY:Liberty Toastmasters North
DESCRIPTION:“The liberty of speaking and writing guards our other liberties” – Thomas Jefferson \nLiberty Toastmasters North is a themed club blending the classic structure of Toastmasters\, to practice our oral communication and leadership skills\, using the Timeless Principles of Leaders in Action focusing on: \n\nIndividual rights\nThe proper role of government\nActive and engaged citizens\nOur founding documents\, the Declaration of Independence and the United States Constitution\n\n\nLiberty Toastmasters North meets on the second and fourth Saturday of the month from 10 am – 12 noon.
URL:https://bocogop.org/event/liberty-toastmasters-north-2/
LOCATION:BCR Headquarters\, 425 S Bowen Street #1\, Longmont\, CO\, 80501\, United States
CATEGORIES:Educational Event,Social Event
ATTACH;FMTTYPE=image/jpeg:https://bocogop.org/wp-content/uploads/2024/02/307847182_469248548569040_3716770241444728476_n.jpg
END:VEVENT
BEGIN:VEVENT
DTSTART;TZID=America/Denver:20240306T070000
DTEND;TZID=America/Denver:20240306T090000
DTSTAMP:20260423T054016
CREATED:20240223T173314Z
LAST-MODIFIED:20240223T173314Z
UID:2759-1709708400-1709715600@bocogop.org
SUMMARY:Monthly Morning Meeting - Robin Wise on Entrepreneurship\, Financial Literacy\, and Work Readiness
DESCRIPTION:The guest speaker is Robin Wise. \nAs President and CEO of Junior Achievement-Rocky Mountain (JA)\, Robin Wise is driven by her belief in the boundless potential of young people. Since 1992\, she has led JA’s efforts to ensure that our region’s youth are inspired and prepared to succeed in a global economy by delivering sequenced and scalable learning experiences that focus on financial literacy\, entrepreneurship\, and work and career readiness. \nIn 2022\, Robin led the groundbreaking effort to build the JA Free Enterprise Center in Greenwood Village\, a 27\,000-square-foot state-of-the-art facility that is home to the Daniels Fund JA Dream Accelerator and Robert and Judi Newman JA Finance Park. \nOver her career\, Robin has engaged hundreds of thousands of educators\, donors\, and volunteers to act on behalf of our young people. She has extensive committee and board service and currently serves on the board of directors for the Common Sense Institute. She and JA have received numerous awards and accolades. \nPlease RSVP to Bradley Beck: \nbradleycraigbeck@gmail.com or call 303-775-7473.
URL:https://bocogop.org/event/monthly-morning-meeting-robin-wise-entrepreneurship-financial-literacy-and-work-readiness/
LOCATION:BCR Headquarters\, 425 S Bowen Street #1\, Longmont\, CO\, 80501\, United States
CATEGORIES:Educational Event,Social Event
ATTACH;FMTTYPE=image/jpeg:https://bocogop.org/wp-content/uploads/2024/02/robin-wise-1.jpg
END:VEVENT
BEGIN:VEVENT
DTSTART;TZID=America/Denver:20240224T100000
DTEND;TZID=America/Denver:20240224T120000
DTSTAMP:20260423T054016
CREATED:20240216T181741Z
LAST-MODIFIED:20240216T181813Z
UID:2719-1708768800-1708776000@bocogop.org
SUMMARY:Liberty Toastmasters North
DESCRIPTION:“The liberty of speaking and writing guards our other liberties” – Thomas Jefferson \nLiberty Toastmasters North is a themed club blending the classic structure of Toastmasters\, to practice our oral communication and leadership skills\, using the Timeless Principles of Leaders in Action focusing on: \n\nIndividual rights\nThe proper role of government\nActive and engaged citizens\nOur founding documents\, the Declaration of Independence and the United States Constitution\n\n\nLiberty Toastmasters North meets on the second and fourth Saturday of the month from 10 am – 12 noon.
URL:https://bocogop.org/event/liberty-toastmasters-north/
LOCATION:BCR Headquarters\, 425 S Bowen Street #1\, Longmont\, CO\, 80501\, United States
CATEGORIES:Educational Event,Social Event
ATTACH;FMTTYPE=image/jpeg:https://bocogop.org/wp-content/uploads/2024/02/307847182_469248548569040_3716770241444728476_n.jpg
END:VEVENT
BEGIN:VEVENT
DTSTART;TZID=America/Denver:20240204T170000
DTEND;TZID=America/Denver:20240204T210000
DTSTAMP:20260423T054016
CREATED:20240130T054038Z
LAST-MODIFIED:20240130T054300Z
UID:2659-1707066000-1707080400@bocogop.org
SUMMARY:BCR Chili Cook-Off & Election Kick-Off
DESCRIPTION:Bring the heat and join the Boulder County Republicans for a Chili Cook-Off & Election Kick-Off gathering! \nHot prizes for the best tasting\, hottest\, and most unusual chili. \nSign up to compete or bring a side HERE. There is no charge to attend but donations are always appreciated.
URL:https://bocogop.org/event/bcr-chili-cook-off-election-kick-off/
LOCATION:BCR Headquarters\, 425 S Bowen Street #1\, Longmont\, CO\, 80501\, United States
CATEGORIES:Election Event,Social Event
ATTACH;FMTTYPE=image/jpeg:https://bocogop.org/wp-content/uploads/2024/01/chili-cook-off.jpg
END:VEVENT
BEGIN:VEVENT
DTSTART;TZID=America/Denver:20231213T180000
DTEND;TZID=America/Denver:20231213T200000
DTSTAMP:20260423T054016
CREATED:20231201T062710Z
LAST-MODIFIED:20231201T062710Z
UID:2400-1702490400-1702497600@bocogop.org
SUMMARY:BCR & LRW Christmas Party
DESCRIPTION:Join the Longmont Republican Women and Boulder County Republicans for their annual Christmas Party!  This will be a fun time to mingle with your fellow liberty lovers and enjoy the holidays.  There will be a White Elephant Gift Exchange so start shopping for that fun gift now ($20 max). \n\n\nTickets are $30 per person and can be purchased HERE. \n\n\nThe party will be on Wednesday\, December 13th\, 6pm at in Longmont. Exact location will be provided upon ticket purchase.
URL:https://bocogop.org/event/bcr-lrw-christmas-party/
LOCATION:Location Provided\, Longmont\, CO\, United States
CATEGORIES:Social Event
ATTACH;FMTTYPE=image/jpeg:https://bocogop.org/wp-content/uploads/2023/11/Facebook-Shop-copy.jpg
END:VEVENT
END:VCALENDAR