BEGIN:VCALENDAR
VERSION:2.0
PRODID:-//Boulder County Republicans - ECPv6.15.15//NONSGML v1.0//EN
CALSCALE:GREGORIAN
METHOD:PUBLISH
X-ORIGINAL-URL:https://bocogop.org
X-WR-CALDESC:Events for Boulder County Republicans
REFRESH-INTERVAL;VALUE=DURATION:PT1H
X-Robots-Tag:noindex
X-PUBLISHED-TTL:PT1H
BEGIN:VTIMEZONE
TZID:America/Denver
BEGIN:DAYLIGHT
TZOFFSETFROM:-0700
TZOFFSETTO:-0600
TZNAME:MDT
DTSTART:20230312T090000
END:DAYLIGHT
BEGIN:STANDARD
TZOFFSETFROM:-0600
TZOFFSETTO:-0700
TZNAME:MST
DTSTART:20231105T080000
END:STANDARD
BEGIN:DAYLIGHT
TZOFFSETFROM:-0700
TZOFFSETTO:-0600
TZNAME:MDT
DTSTART:20240310T090000
END:DAYLIGHT
BEGIN:STANDARD
TZOFFSETFROM:-0600
TZOFFSETTO:-0700
TZNAME:MST
DTSTART:20241103T080000
END:STANDARD
BEGIN:DAYLIGHT
TZOFFSETFROM:-0700
TZOFFSETTO:-0600
TZNAME:MDT
DTSTART:20250309T090000
END:DAYLIGHT
BEGIN:STANDARD
TZOFFSETFROM:-0600
TZOFFSETTO:-0700
TZNAME:MST
DTSTART:20251102T080000
END:STANDARD
END:VTIMEZONE
BEGIN:VEVENT
DTSTART;TZID=America/Denver:20241211T180000
DTEND;TZID=America/Denver:20241211T203000
DTSTAMP:20260421T040101
CREATED:20241204T231532Z
LAST-MODIFIED:20241205T002130Z
UID:3804-1733940000-1733949000@bocogop.org
SUMMARY:BCR Christmas Party
DESCRIPTION:$20 per person includes dinner\, iced tea or soda pop. Please RSVP and purchase your ticket here: https://secure.anedot.com/bcr/c30b799ffb70b9ff29292 \nAdd a White Elephant Gift ($20 limit) if you’d like to join in on an exchange! \nAll tickets purchased are a donation to the Boulder County Republicans. They do not qualify as a tax deductible refundable donation.
URL:https://bocogop.org/event/bcr-christmas-party/
LOCATION:La Mariposa Mexican Restaurant\, 2033 Ken Pratt Blvd\, Longmont\, 80501\, United States
CATEGORIES:Social Event
ATTACH;FMTTYPE=image/jpeg:https://bocogop.org/wp-content/uploads/2024/12/BCR-Christmas-2024.jpg
END:VEVENT
END:VCALENDAR