BEGIN:VCALENDAR
VERSION:2.0
PRODID:-//Boulder County Republicans - ECPv6.15.15//NONSGML v1.0//EN
CALSCALE:GREGORIAN
METHOD:PUBLISH
X-WR-CALNAME:Boulder County Republicans
X-ORIGINAL-URL:https://bocogop.org
X-WR-CALDESC:Events for Boulder County Republicans
REFRESH-INTERVAL;VALUE=DURATION:PT1H
X-Robots-Tag:noindex
X-PUBLISHED-TTL:PT1H
BEGIN:VTIMEZONE
TZID:America/Denver
BEGIN:DAYLIGHT
TZOFFSETFROM:-0700
TZOFFSETTO:-0600
TZNAME:MDT
DTSTART:20230312T090000
END:DAYLIGHT
BEGIN:STANDARD
TZOFFSETFROM:-0600
TZOFFSETTO:-0700
TZNAME:MST
DTSTART:20231105T080000
END:STANDARD
BEGIN:DAYLIGHT
TZOFFSETFROM:-0700
TZOFFSETTO:-0600
TZNAME:MDT
DTSTART:20240310T090000
END:DAYLIGHT
BEGIN:STANDARD
TZOFFSETFROM:-0600
TZOFFSETTO:-0700
TZNAME:MST
DTSTART:20241103T080000
END:STANDARD
BEGIN:DAYLIGHT
TZOFFSETFROM:-0700
TZOFFSETTO:-0600
TZNAME:MDT
DTSTART:20250309T090000
END:DAYLIGHT
BEGIN:STANDARD
TZOFFSETFROM:-0600
TZOFFSETTO:-0700
TZNAME:MST
DTSTART:20251102T080000
END:STANDARD
END:VTIMEZONE
BEGIN:VEVENT
DTSTART;TZID=America/Denver:20240204T170000
DTEND;TZID=America/Denver:20240204T210000
DTSTAMP:20260421T222302
CREATED:20240130T054038Z
LAST-MODIFIED:20240130T054300Z
UID:2659-1707066000-1707080400@bocogop.org
SUMMARY:BCR Chili Cook-Off & Election Kick-Off
DESCRIPTION:Bring the heat and join the Boulder County Republicans for a Chili Cook-Off & Election Kick-Off gathering! \nHot prizes for the best tasting\, hottest\, and most unusual chili. \nSign up to compete or bring a side HERE. There is no charge to attend but donations are always appreciated.
URL:https://bocogop.org/event/bcr-chili-cook-off-election-kick-off/
LOCATION:BCR Headquarters\, 425 S Bowen Street #1\, Longmont\, CO\, 80501\, United States
CATEGORIES:Election Event,Social Event
ATTACH;FMTTYPE=image/jpeg:https://bocogop.org/wp-content/uploads/2024/01/chili-cook-off.jpg
END:VEVENT
END:VCALENDAR