BEGIN:VCALENDAR
VERSION:2.0
PRODID:-//Boulder County Republicans - ECPv6.15.15//NONSGML v1.0//EN
CALSCALE:GREGORIAN
METHOD:PUBLISH
X-WR-CALNAME:Boulder County Republicans
X-ORIGINAL-URL:https://bocogop.org
X-WR-CALDESC:Events for Boulder County Republicans
REFRESH-INTERVAL;VALUE=DURATION:PT1H
X-Robots-Tag:noindex
X-PUBLISHED-TTL:PT1H
BEGIN:VTIMEZONE
TZID:America/Denver
BEGIN:DAYLIGHT
TZOFFSETFROM:-0700
TZOFFSETTO:-0600
TZNAME:MDT
DTSTART:20230312T090000
END:DAYLIGHT
BEGIN:STANDARD
TZOFFSETFROM:-0600
TZOFFSETTO:-0700
TZNAME:MST
DTSTART:20231105T080000
END:STANDARD
BEGIN:DAYLIGHT
TZOFFSETFROM:-0700
TZOFFSETTO:-0600
TZNAME:MDT
DTSTART:20240310T090000
END:DAYLIGHT
BEGIN:STANDARD
TZOFFSETFROM:-0600
TZOFFSETTO:-0700
TZNAME:MST
DTSTART:20241103T080000
END:STANDARD
BEGIN:DAYLIGHT
TZOFFSETFROM:-0700
TZOFFSETTO:-0600
TZNAME:MDT
DTSTART:20250309T090000
END:DAYLIGHT
BEGIN:STANDARD
TZOFFSETFROM:-0600
TZOFFSETTO:-0700
TZNAME:MST
DTSTART:20251102T080000
END:STANDARD
END:VTIMEZONE
BEGIN:VEVENT
DTSTART;TZID=America/Denver:20240825T140000
DTEND;TZID=America/Denver:20240825T163000
DTSTAMP:20260421T112107
CREATED:20240729T195859Z
LAST-MODIFIED:20240729T200855Z
UID:2994-1724594400-1724603400@bocogop.org
SUMMARY:LRW Sunday Matinee: Beneath Sheep's Clothing
DESCRIPTION:Today\, in America\, we are living in a time of war.  Our country has been invaded by Communist forces that are training 49.4 million American public school children to become Marxist revolutionaries. Wolves infiltrate our churches in sheep’s clothing. And the bedrock ideologies upon which America was founded have been battered and weakened.  What can you do?  What will you do? \nPlease spread the word about this film to everyone\, and let’s use our group as a community outreach tool to reach the ever-growing unaffiliated voter base. \nDate: Sunday\, August 25th\, 2024 \n\nDoors open at 2:00 p.m\nSuggested donation: A $5.00 admittance and nominal donation(s) are requested for pizza\, popcorn\, sweets\, and beverages\nRSVP to Sandra Holloway by 8/24: sandraholloway2010@gmail.com or call/text 303-241-9709
URL:https://bocogop.org/event/lrw-sunday-matinee-beneath-sheeps-clothing/
LOCATION:BCR Headquarters\, 425 S Bowen Street #1\, Longmont\, CO\, 80501\, United States
CATEGORIES:Social Event
ATTACH;FMTTYPE=image/jpeg:https://bocogop.org/wp-content/uploads/2024/07/MV5BMjAxMDBhYmQtNTY4Mi00NmE3LTlmNzctYjM2NzUzODg1NjY5XkEyXkFqcGdeQXVyMTQ4NzM5NTA2._V1_-scaled.jpg
END:VEVENT
END:VCALENDAR