BEGIN:VCALENDAR
VERSION:2.0
PRODID:-//Boulder County Republicans - ECPv6.15.15//NONSGML v1.0//EN
CALSCALE:GREGORIAN
METHOD:PUBLISH
X-WR-CALNAME:Boulder County Republicans
X-ORIGINAL-URL:https://bocogop.org
X-WR-CALDESC:Events for Boulder County Republicans
REFRESH-INTERVAL;VALUE=DURATION:PT1H
X-Robots-Tag:noindex
X-PUBLISHED-TTL:PT1H
BEGIN:VTIMEZONE
TZID:America/Denver
BEGIN:DAYLIGHT
TZOFFSETFROM:-0700
TZOFFSETTO:-0600
TZNAME:MDT
DTSTART:20230312T090000
END:DAYLIGHT
BEGIN:STANDARD
TZOFFSETFROM:-0600
TZOFFSETTO:-0700
TZNAME:MST
DTSTART:20231105T080000
END:STANDARD
BEGIN:DAYLIGHT
TZOFFSETFROM:-0700
TZOFFSETTO:-0600
TZNAME:MDT
DTSTART:20240310T090000
END:DAYLIGHT
BEGIN:STANDARD
TZOFFSETFROM:-0600
TZOFFSETTO:-0700
TZNAME:MST
DTSTART:20241103T080000
END:STANDARD
BEGIN:DAYLIGHT
TZOFFSETFROM:-0700
TZOFFSETTO:-0600
TZNAME:MDT
DTSTART:20250309T090000
END:DAYLIGHT
BEGIN:STANDARD
TZOFFSETFROM:-0600
TZOFFSETTO:-0700
TZNAME:MST
DTSTART:20251102T080000
END:STANDARD
END:VTIMEZONE
BEGIN:VEVENT
DTSTART;TZID=America/Denver:20240914T080000
DTEND;TZID=America/Denver:20240914T170000
DTSTAMP:20260419T173002
CREATED:20240814T003033Z
LAST-MODIFIED:20240818T165302Z
UID:3238-1726300800-1726333200@bocogop.org
SUMMARY:Longmont Air Show
DESCRIPTION:We need all hands on deck for this momentous event! Thousands of people are expected to attend! \nLongmont Airshow\nSeptember 14 – All Day\nLongmont Airport\, Longmont \nBCR Will have a booth (Candidates encouraged to attend) \nSign up to volunteer at the airshow HERE \nMore info: https://www.longmontairshow.com/
URL:https://bocogop.org/event/longmont-air-show/
LOCATION:Longmont Airport\, 229 Airport Rd\, Longmont\, CO\, 80503\, United States
CATEGORIES:Festival or Community Event
ATTACH;FMTTYPE=image/webp:https://bocogop.org/wp-content/uploads/2024/08/DCC-L-Aviation_CG18369-1.webp
END:VEVENT
BEGIN:VEVENT
DTSTART;VALUE=DATE:20240902
DTEND;VALUE=DATE:20240903
DTSTAMP:20260419T173002
CREATED:20240814T031057Z
LAST-MODIFIED:20240814T031057Z
UID:3249-1725235200-1725321599@bocogop.org
SUMMARY:Walk with BCR in the Louisville Labor Day Parade
DESCRIPTION:Join us for the Louisville Labor Day Parade on September 2\, 2024! The Boulder County Fair parade was tons of fun!! \nMore info coming soon.
URL:https://bocogop.org/event/walk-with-bcr-in-the-louisville-labor-day-parade/
LOCATION:TBD
CATEGORIES:Festival or Community Event
ATTACH;FMTTYPE=image/png:https://bocogop.org/wp-content/uploads/2024/06/boco-parade.png
END:VEVENT
BEGIN:VEVENT
DTSTART;TZID=America/Denver:20240823T150000
DTEND;TZID=America/Denver:20240823T210000
DTSTAMP:20260419T173002
CREATED:20240608T011427Z
LAST-MODIFIED:20240814T002028Z
UID:2936-1724425200-1724446800@bocogop.org
SUMMARY:BCR at Longmont Unity in the Community Festival
DESCRIPTION:Please volunteer to help by CLICKING HERE to sign up with BOCO GOP! The BCR Liberty Road Show “Takes our message to community festivals” and we need volunteers for this effort. We need volunteers for Longmont’s Unity in the Community Festival.
URL:https://bocogop.org/event/bcr-at-longmont-unity-in-the-community-festival/
CATEGORIES:Festival or Community Event
ATTACH;FMTTYPE=image/jpeg:https://bocogop.org/wp-content/uploads/2024/06/BCR-roadshow-2022.jpg
END:VEVENT
BEGIN:VEVENT
DTSTART;VALUE=DATE:20240803
DTEND;VALUE=DATE:20240804
DTSTAMP:20260419T173002
CREATED:20240608T012422Z
LAST-MODIFIED:20240608T012437Z
UID:2940-1722643200-1722729599@bocogop.org
SUMMARY:Boulder County Fair Parade - Join BCR Entry and Support a Candidate
DESCRIPTION:Please volunteer to help our Republican candidates at the Boulder County Fair parade! BCR will have an entry and anyone can join us to walk and spread our message.
URL:https://bocogop.org/event/boulder-county-fair-parade-join-bcr-entry-and-support-a-candidate/
CATEGORIES:Festival or Community Event
ATTACH;FMTTYPE=image/png:https://bocogop.org/wp-content/uploads/2024/06/boco-parade.png
END:VEVENT
BEGIN:VEVENT
DTSTART;VALUE=DATE:20240505
DTEND;VALUE=DATE:20240506
DTSTAMP:20260419T173002
CREATED:20240423T163405Z
LAST-MODIFIED:20240423T163405Z
UID:2822-1714867200-1714953599@bocogop.org
SUMMARY:BCR at Longmont Cinco de Mayo Festival
DESCRIPTION:Please volunteer to help! The BCR Liberty Road Show “Takes our message to community festivals” and we need volunteers for this effort. We need volunteers for Cinco De Mayo! \nDavid Brown has volunteered to be Chairman! Contact David at traderpards@yahoo.com
URL:https://bocogop.org/event/bcr-at-longmont-cinco-de-mayo-festival/
CATEGORIES:Festival or Community Event
ATTACH;FMTTYPE=image/jpeg:https://bocogop.org/wp-content/uploads/2024/04/Cinco-de-Mayo.jpg
END:VEVENT
END:VCALENDAR