BEGIN:VCALENDAR
VERSION:2.0
PRODID:-//Boulder County Republicans - ECPv6.15.15//NONSGML v1.0//EN
CALSCALE:GREGORIAN
METHOD:PUBLISH
X-ORIGINAL-URL:https://bocogop.org
X-WR-CALDESC:Events for Boulder County Republicans
REFRESH-INTERVAL;VALUE=DURATION:PT1H
X-Robots-Tag:noindex
X-PUBLISHED-TTL:PT1H
BEGIN:VTIMEZONE
TZID:America/Denver
BEGIN:DAYLIGHT
TZOFFSETFROM:-0700
TZOFFSETTO:-0600
TZNAME:MDT
DTSTART:20230312T090000
END:DAYLIGHT
BEGIN:STANDARD
TZOFFSETFROM:-0600
TZOFFSETTO:-0700
TZNAME:MST
DTSTART:20231105T080000
END:STANDARD
BEGIN:DAYLIGHT
TZOFFSETFROM:-0700
TZOFFSETTO:-0600
TZNAME:MDT
DTSTART:20240310T090000
END:DAYLIGHT
BEGIN:STANDARD
TZOFFSETFROM:-0600
TZOFFSETTO:-0700
TZNAME:MST
DTSTART:20241103T080000
END:STANDARD
BEGIN:DAYLIGHT
TZOFFSETFROM:-0700
TZOFFSETTO:-0600
TZNAME:MDT
DTSTART:20250309T090000
END:DAYLIGHT
BEGIN:STANDARD
TZOFFSETFROM:-0600
TZOFFSETTO:-0700
TZNAME:MST
DTSTART:20251102T080000
END:STANDARD
END:VTIMEZONE
BEGIN:VEVENT
DTSTART;TZID=America/Denver:20240823T150000
DTEND;TZID=America/Denver:20240823T210000
DTSTAMP:20260423T032037
CREATED:20240608T011427Z
LAST-MODIFIED:20240814T002028Z
UID:2936-1724425200-1724446800@bocogop.org
SUMMARY:BCR at Longmont Unity in the Community Festival
DESCRIPTION:Please volunteer to help by CLICKING HERE to sign up with BOCO GOP! The BCR Liberty Road Show “Takes our message to community festivals” and we need volunteers for this effort. We need volunteers for Longmont’s Unity in the Community Festival.
URL:https://bocogop.org/event/bcr-at-longmont-unity-in-the-community-festival/
CATEGORIES:Festival or Community Event
ATTACH;FMTTYPE=image/jpeg:https://bocogop.org/wp-content/uploads/2024/06/BCR-roadshow-2022.jpg
END:VEVENT
END:VCALENDAR