BEGIN:VCALENDAR
VERSION:2.0
PRODID:-//Boulder County Republicans - ECPv6.15.15//NONSGML v1.0//EN
CALSCALE:GREGORIAN
METHOD:PUBLISH
X-WR-CALNAME:Boulder County Republicans
X-ORIGINAL-URL:https://bocogop.org
X-WR-CALDESC:Events for Boulder County Republicans
REFRESH-INTERVAL;VALUE=DURATION:PT1H
X-Robots-Tag:noindex
X-PUBLISHED-TTL:PT1H
BEGIN:VTIMEZONE
TZID:America/Denver
BEGIN:DAYLIGHT
TZOFFSETFROM:-0700
TZOFFSETTO:-0600
TZNAME:MDT
DTSTART:20250309T090000
END:DAYLIGHT
BEGIN:STANDARD
TZOFFSETFROM:-0600
TZOFFSETTO:-0700
TZNAME:MST
DTSTART:20251102T080000
END:STANDARD
BEGIN:DAYLIGHT
TZOFFSETFROM:-0700
TZOFFSETTO:-0600
TZNAME:MDT
DTSTART:20260308T090000
END:DAYLIGHT
BEGIN:STANDARD
TZOFFSETFROM:-0600
TZOFFSETTO:-0700
TZNAME:MST
DTSTART:20261101T080000
END:STANDARD
BEGIN:DAYLIGHT
TZOFFSETFROM:-0700
TZOFFSETTO:-0600
TZNAME:MDT
DTSTART:20270314T090000
END:DAYLIGHT
BEGIN:STANDARD
TZOFFSETFROM:-0600
TZOFFSETTO:-0700
TZNAME:MST
DTSTART:20271107T080000
END:STANDARD
END:VTIMEZONE
BEGIN:VEVENT
DTSTART;TZID=America/Denver:20260421T111500
DTEND;TZID=America/Denver:20260421T131500
DTSTAMP:20260421T015849
CREATED:20260405T215012Z
LAST-MODIFIED:20260405T215050Z
UID:5233-1776770100-1776777300@bocogop.org
SUMMARY:Boulder Republican Women's April Luncheon
DESCRIPTION:Our speaker for this month’s event will be Jules Devigne from the TPUSA CSU Chapter. \nAttendees can order from the menu and pay individually. \nOnline RSVPs are appreciated at www.boulderrepublicanwomen.org \nContact Linda Erdmann\, 530-263-3510\, lindaerdmann95949@yahoo.com for information
URL:https://bocogop.org/event/boulder-republican-womens-april-luncheon/
LOCATION:Pinocchio’s Fine Italian Restaurant\, 210 Ken Pratt Blvd\, Longmont\, United States
END:VEVENT
END:VCALENDAR