BEGIN:VCALENDAR
VERSION:2.0
PRODID:-//Boulder County Republicans - ECPv6.15.15//NONSGML v1.0//EN
CALSCALE:GREGORIAN
METHOD:PUBLISH
X-WR-CALNAME:Boulder County Republicans
X-ORIGINAL-URL:https://bocogop.org
X-WR-CALDESC:Events for Boulder County Republicans
REFRESH-INTERVAL;VALUE=DURATION:PT1H
X-Robots-Tag:noindex
X-PUBLISHED-TTL:PT1H
BEGIN:VTIMEZONE
TZID:America/Denver
BEGIN:DAYLIGHT
TZOFFSETFROM:-0700
TZOFFSETTO:-0600
TZNAME:MDT
DTSTART:20250309T090000
END:DAYLIGHT
BEGIN:STANDARD
TZOFFSETFROM:-0600
TZOFFSETTO:-0700
TZNAME:MST
DTSTART:20251102T080000
END:STANDARD
BEGIN:DAYLIGHT
TZOFFSETFROM:-0700
TZOFFSETTO:-0600
TZNAME:MDT
DTSTART:20260308T090000
END:DAYLIGHT
BEGIN:STANDARD
TZOFFSETFROM:-0600
TZOFFSETTO:-0700
TZNAME:MST
DTSTART:20261101T080000
END:STANDARD
BEGIN:DAYLIGHT
TZOFFSETFROM:-0700
TZOFFSETTO:-0600
TZNAME:MDT
DTSTART:20270314T090000
END:DAYLIGHT
BEGIN:STANDARD
TZOFFSETFROM:-0600
TZOFFSETTO:-0700
TZNAME:MST
DTSTART:20271107T080000
END:STANDARD
END:VTIMEZONE
BEGIN:VEVENT
DTSTART;TZID=America/Denver:20260416T180000
DTEND;TZID=America/Denver:20260416T200000
DTSTAMP:20260423T114734
CREATED:20260405T212646Z
LAST-MODIFIED:20260405T213542Z
UID:5228-1776362400-1776369600@bocogop.org
SUMMARY:Longmont Republican Women's April Meeting
DESCRIPTION:This month\, we’re pleased to host a conversation with Christina Blunt\, candidate for CD-2. \nArrive at 5:30 p.m. to join us for a 15-minute word of prayer to pray for President Trump\, Colorado\, and America.  Then\, at 5:45 p.m.\, we order dinner from the menu and pay individually. \n\n\n \nWe look forward to seeing you there!
URL:https://bocogop.org/event/longmont-republican-womens-april-meeting/
LOCATION:Pinocchio’s Fine Italian Restaurant\, 210 Ken Pratt Blvd\, Longmont\, United States
END:VEVENT
END:VCALENDAR