BEGIN:VCALENDAR
VERSION:2.0
PRODID:-//Boulder County Republicans - ECPv6.15.15//NONSGML v1.0//EN
CALSCALE:GREGORIAN
METHOD:PUBLISH
X-WR-CALNAME:Boulder County Republicans
X-ORIGINAL-URL:https://bocogop.org
X-WR-CALDESC:Events for Boulder County Republicans
REFRESH-INTERVAL;VALUE=DURATION:PT1H
X-Robots-Tag:noindex
X-PUBLISHED-TTL:PT1H
BEGIN:VTIMEZONE
TZID:America/Denver
BEGIN:DAYLIGHT
TZOFFSETFROM:-0700
TZOFFSETTO:-0600
TZNAME:MDT
DTSTART:20230312T090000
END:DAYLIGHT
BEGIN:STANDARD
TZOFFSETFROM:-0600
TZOFFSETTO:-0700
TZNAME:MST
DTSTART:20231105T080000
END:STANDARD
BEGIN:DAYLIGHT
TZOFFSETFROM:-0700
TZOFFSETTO:-0600
TZNAME:MDT
DTSTART:20240310T090000
END:DAYLIGHT
BEGIN:STANDARD
TZOFFSETFROM:-0600
TZOFFSETTO:-0700
TZNAME:MST
DTSTART:20241103T080000
END:STANDARD
BEGIN:DAYLIGHT
TZOFFSETFROM:-0700
TZOFFSETTO:-0600
TZNAME:MDT
DTSTART:20250309T090000
END:DAYLIGHT
BEGIN:STANDARD
TZOFFSETFROM:-0600
TZOFFSETTO:-0700
TZNAME:MST
DTSTART:20251102T080000
END:STANDARD
END:VTIMEZONE
BEGIN:VEVENT
DTSTART;TZID=America/Denver:20241008T190000
DTEND;TZID=America/Denver:20241008T200000
DTSTAMP:20260421T111928
CREATED:20241005T225744Z
LAST-MODIFIED:20241005T230117Z
UID:3562-1728414000-1728417600@bocogop.org
SUMMARY:2024 Ballot Initiative Forum
DESCRIPTION:Voters face 14 important statewide initiatives and numerous local initiatives.  Join us at 7:00 pm on Tuesday\, October 8\, 2024 for our 2024 Ballot Initiative Forum. This forum will be moderated by Jim Hemenway\, former CD7 candidate in 2024.  Bring your ideas and perspectives to this informative and interactive forum.  We’re meeting in person in the BCR office and offering a Zoom option. \nZoom Meeting\nhttps://us02web.zoom.us/j/87066344222\nMeeting ID: 870 6634 4222\nOne tap mobile \n+17193594580\,\,87066344222# US
URL:https://bocogop.org/event/2024-ballot-initiative-forum/
LOCATION:BCR Headquarters\, 425 S Bowen Street #1\, Longmont\, CO\, 80501\, United States
END:VEVENT
END:VCALENDAR